BEGIN:VCALENDAR
VERSION:2.0
PRODID:-//RIGHTHERE//CALENDARIZE IT V3.2//EN
BEGIN:VTIMEZONE
TZID:America/New_York
X-MICROSOFT-CDO-TZID:10
BEGIN:STANDARD
DTSTART:20251102T060000
TZOFFSETFROM:-0400
TZOFFSETTO:-0500
TZNAME:EST
END:STANDARD
BEGIN:DAYLIGHT
DTSTART:20260308T070000
TZOFFSETFROM:-0500
TZOFFSETTO:-0400
TZNAME:EDT
END:DAYLIGHT
BEGIN:STANDARD
DTSTART:20261101T060000
TZOFFSETFROM:-0400
TZOFFSETTO:-0500
TZNAME:EST
END:STANDARD
END:VTIMEZONE
BEGIN:VEVENT
UID:900-events@lotroartists.com
DTSTART;TZID=America/New_York:20160412T150000
DTEND;TZID=America/New_York:20160412T170000
DTSTAMP;TZID=America/New_York:20160418T164642
SUMMARY:Gala Du Lierre Touffu\, Sirannon
RRULE:FREQ=WEEKLY;INTERVAL=1;BYDAY=TU;WKST=SU;UNTIL=20250325
EXDATE:20160503T190000Z,20160607T190000Z,20160705T190000Z,20160802T190000Z,
 20160906T190000Z,20161004T190000Z,20161101T190000Z,20161206T190000Z
URL:http://lotroartists.com/events/gala-du-lierre-touffu-sirannon/
LOCATION:Hobbiton The Shire
END:VEVENT
END:VCALENDAR