BEGIN:VCALENDAR
VERSION:2.0
PRODID:-//RIGHTHERE//CALENDARIZE IT V3.2//EN
BEGIN:VTIMEZONE
TZID:America/New_York
X-MICROSOFT-CDO-TZID:10
BEGIN:STANDARD
DTSTART:20251102T060000
TZOFFSETFROM:-0400
TZOFFSETTO:-0500
TZNAME:EST
END:STANDARD
BEGIN:DAYLIGHT
DTSTART:20260308T070000
TZOFFSETFROM:-0500
TZOFFSETTO:-0400
TZNAME:EDT
END:DAYLIGHT
BEGIN:STANDARD
DTSTART:20261101T060000
TZOFFSETFROM:-0400
TZOFFSETTO:-0500
TZNAME:EST
END:STANDARD
END:VTIMEZONE
BEGIN:VEVENT
UID:86-events@lotroartists.com
DTSTART;TZID=America/New_York:20160207T150000
DTEND;TZID=America/New_York:20160207T160000
DTSTAMP;TZID=America/New_York:20160220T095621
SUMMARY:The Andune Ensemble
RRULE:FREQ=WEEKLY;INTERVAL=1;UNTIL=20230831
EXDATE:20170122T070000Z,20170122T190000Z,20180708T190000Z
URL:http://lotroartists.com/events/the-andune-ensemble/
ORGANIZER;CN=Andune Ensemble:
LOCATION:Prancing Pony Stage\, Bree
END:VEVENT
END:VCALENDAR