BEGIN:VCALENDAR
VERSION:2.0
PRODID:-//RIGHTHERE//CALENDARIZE IT V3.2//EN
BEGIN:VTIMEZONE
TZID:America/New_York
X-MICROSOFT-CDO-TZID:10
BEGIN:STANDARD
DTSTART:20251102T060000
TZOFFSETFROM:-0400
TZOFFSETTO:-0500
TZNAME:EST
END:STANDARD
BEGIN:DAYLIGHT
DTSTART:20260308T070000
TZOFFSETFROM:-0500
TZOFFSETTO:-0400
TZNAME:EDT
END:DAYLIGHT
BEGIN:STANDARD
DTSTART:20261101T060000
TZOFFSETFROM:-0400
TZOFFSETTO:-0500
TZNAME:EST
END:STANDARD
END:VTIMEZONE
BEGIN:VEVENT
UID:574-events@lotroartists.com
DTSTART;TZID=America/New_York:20160325T160000
DTEND;TZID=America/New_York:20160325T170000
DTSTAMP;TZID=America/New_York:20160316T041803
SUMMARY:Die Nacht der progressiven Töne – Guruth Gigs: Night of the Prog
 s
URL:http://lotroartists.com/events/die-nacht-der-progressiven-tone-guruth-g
 igs-night-of-the-progs/
ORGANIZER;CN=Frische Brise:
LOCATION:Lone Lands
END:VEVENT
END:VCALENDAR