BEGIN:VCALENDAR
VERSION:2.0
PRODID:-//RIGHTHERE//CALENDARIZE IT V3.2//EN
BEGIN:VTIMEZONE
TZID:America/New_York
X-MICROSOFT-CDO-TZID:10
BEGIN:STANDARD
DTSTART:20251102T060000
TZOFFSETFROM:-0400
TZOFFSETTO:-0500
TZNAME:EST
END:STANDARD
BEGIN:DAYLIGHT
DTSTART:20260308T070000
TZOFFSETFROM:-0500
TZOFFSETTO:-0400
TZNAME:EDT
END:DAYLIGHT
BEGIN:STANDARD
DTSTART:20261101T060000
TZOFFSETFROM:-0400
TZOFFSETTO:-0500
TZNAME:EST
END:STANDARD
END:VTIMEZONE
BEGIN:VEVENT
UID:5586-events@lotroartists.com
DTSTART;TZID=America/New_York:20210321T150000
DTEND;TZID=America/New_York:20210321T000000
DTSTAMP;TZID=America/New_York:20210309T114449
SUMMARY:Lindamar presents Coirear – Days of the Stirring\, Laurelin
URL:http://lotroartists.com/events/lindamar-presents-coirear-days-of-the-st
 irring-laurelin/
ORGANIZER;CN=Lindamar:
LOCATION:Celondim [29.4S 92.7W]
END:VEVENT
END:VCALENDAR