BEGIN:VCALENDAR
VERSION:2.0
PRODID:-//RIGHTHERE//CALENDARIZE IT V3.2//EN
BEGIN:VTIMEZONE
TZID:America/New_York
X-MICROSOFT-CDO-TZID:10
BEGIN:STANDARD
DTSTART:20251102T060000
TZOFFSETFROM:-0400
TZOFFSETTO:-0500
TZNAME:EST
END:STANDARD
BEGIN:DAYLIGHT
DTSTART:20260308T070000
TZOFFSETFROM:-0500
TZOFFSETTO:-0400
TZNAME:EDT
END:DAYLIGHT
BEGIN:STANDARD
DTSTART:20261101T060000
TZOFFSETFROM:-0400
TZOFFSETTO:-0500
TZNAME:EST
END:STANDARD
END:VTIMEZONE
BEGIN:VEVENT
UID:3350-events@lotroartists.com
DTSTART;TZID=America/New_York:20180225T110000
DTEND;TZID=America/New_York:20180225T130000
DTSTAMP;TZID=America/New_York:20180208T144701
SUMMARY:Classical Gas Concert for Special Effect UK
URL:http://lotroartists.com/events/classical-gas-concert-for-special-effect
 -uk/
ORGANIZER;CN=Classical Gas:
LOCATION:Bree\, Prancing Pony Stables
END:VEVENT
END:VCALENDAR