BEGIN:VCALENDAR
VERSION:2.0
PRODID:-//RIGHTHERE//CALENDARIZE IT V3.2//EN
BEGIN:VTIMEZONE
TZID:America/New_York
X-MICROSOFT-CDO-TZID:10
BEGIN:STANDARD
DTSTART:20251102T060000
TZOFFSETFROM:-0400
TZOFFSETTO:-0500
TZNAME:EST
END:STANDARD
BEGIN:DAYLIGHT
DTSTART:20260308T070000
TZOFFSETFROM:-0500
TZOFFSETTO:-0400
TZNAME:EDT
END:DAYLIGHT
BEGIN:STANDARD
DTSTART:20261101T060000
TZOFFSETFROM:-0400
TZOFFSETTO:-0500
TZNAME:EST
END:STANDARD
END:VTIMEZONE
BEGIN:VEVENT
UID:2486-events@lotroartists.com
DTSTART;TZID=America/New_York:20170526T151500
DTEND;TZID=America/New_York:20170526T171500
DTSTAMP;TZID=America/New_York:20170525T161845
SUMMARY:Les Troubadours du Crépuscule
URL:http://lotroartists.com/events/les-troubadours-du-crepuscule/
ORGANIZER;CN=Les Troubadours du Crépuscule:
LOCATION:Weathertop
END:VEVENT
END:VCALENDAR