BEGIN:VCALENDAR
VERSION:2.0
PRODID:-//RIGHTHERE//CALENDARIZE IT V3.2//EN
BEGIN:VTIMEZONE
TZID:America/New_York
X-MICROSOFT-CDO-TZID:10
BEGIN:STANDARD
DTSTART:20251102T060000
TZOFFSETFROM:-0400
TZOFFSETTO:-0500
TZNAME:EST
END:STANDARD
BEGIN:DAYLIGHT
DTSTART:20260308T070000
TZOFFSETFROM:-0500
TZOFFSETTO:-0400
TZNAME:EDT
END:DAYLIGHT
BEGIN:STANDARD
DTSTART:20261101T060000
TZOFFSETFROM:-0400
TZOFFSETTO:-0500
TZNAME:EST
END:STANDARD
END:VTIMEZONE
BEGIN:VEVENT
UID:2306-events@lotroartists.com
DTSTART;TZID=America/New_York:20170326T210000
DTEND;TZID=America/New_York:20170326T220000
DTSTAMP;TZID=America/New_York:20170319T075438
SUMMARY:Troll Finger: Songs from Another Age\, Landroval
RRULE:FREQ=WEEKLY;INTERVAL=2;UNTIL=20250406
URL:http://lotroartists.com/events/troll-finger-songs-from-another-age/
ORGANIZER;CN=Troll Finger:
LOCATION:Prancing Pony Stage\, Bree
END:VEVENT
END:VCALENDAR