BEGIN:VCALENDAR
VERSION:2.0
PRODID:-//RIGHTHERE//CALENDARIZE IT V3.2//EN
BEGIN:VTIMEZONE
TZID:America/New_York
X-MICROSOFT-CDO-TZID:10
BEGIN:STANDARD
DTSTART:20251102T060000
TZOFFSETFROM:-0400
TZOFFSETTO:-0500
TZNAME:EST
END:STANDARD
BEGIN:DAYLIGHT
DTSTART:20260308T070000
TZOFFSETFROM:-0500
TZOFFSETTO:-0400
TZNAME:EDT
END:DAYLIGHT
BEGIN:STANDARD
DTSTART:20261101T060000
TZOFFSETFROM:-0400
TZOFFSETTO:-0500
TZNAME:EST
END:STANDARD
END:VTIMEZONE
BEGIN:VEVENT
UID:2114-events@lotroartists.com
DTSTART;TZID=America/New_York:20170203T213000
DTEND;TZID=America/New_York:20170203T223000
DTSTAMP;TZID=America/New_York:20170203T142438
SUMMARY:Harfang
RDATE;TZID=America/New_York:20170205T213000,20170207T210000,20170212T213000
 ,20170219T213000,20170225T150000,20170226T150000
URL:http://lotroartists.com/events/harfangs-family/
ORGANIZER;CN=Harfang:
LOCATION:See event description
END:VEVENT
END:VCALENDAR