BEGIN:VCALENDAR
VERSION:2.0
PRODID:-//RIGHTHERE//CALENDARIZE IT V3.2//EN
BEGIN:VTIMEZONE
TZID:America/New_York
X-MICROSOFT-CDO-TZID:10
BEGIN:STANDARD
DTSTART:20251102T060000
TZOFFSETFROM:-0400
TZOFFSETTO:-0500
TZNAME:EST
END:STANDARD
BEGIN:DAYLIGHT
DTSTART:20260308T070000
TZOFFSETFROM:-0500
TZOFFSETTO:-0400
TZNAME:EDT
END:DAYLIGHT
BEGIN:STANDARD
DTSTART:20261101T060000
TZOFFSETFROM:-0400
TZOFFSETTO:-0500
TZNAME:EST
END:STANDARD
END:VTIMEZONE
BEGIN:VEVENT
UID:2080-events@lotroartists.com
DTSTART;TZID=America/New_York:20170218T130000
DTEND;TZID=America/New_York:20170218T140000
DTSTAMP;TZID=America/New_York:20170129T080931
SUMMARY:Punk-rock concert “Crazy Tales of the Shire”
URL:http://lotroartists.com/events/punk-rock-concert-crazy-tales-of-the-shi
 re/
ORGANIZER;CN=Polnolunie:
LOCATION:Prancing Pony Stage\, Bree
END:VEVENT
END:VCALENDAR