BEGIN:VCALENDAR
VERSION:2.0
PRODID:-//RIGHTHERE//CALENDARIZE IT V3.2//EN
BEGIN:VTIMEZONE
TZID:America/New_York
X-MICROSOFT-CDO-TZID:10
BEGIN:STANDARD
DTSTART:20251102T060000
TZOFFSETFROM:-0400
TZOFFSETTO:-0500
TZNAME:EST
END:STANDARD
BEGIN:DAYLIGHT
DTSTART:20260308T070000
TZOFFSETFROM:-0500
TZOFFSETTO:-0400
TZNAME:EDT
END:DAYLIGHT
BEGIN:STANDARD
DTSTART:20261101T060000
TZOFFSETFROM:-0400
TZOFFSETTO:-0500
TZNAME:EST
END:STANDARD
END:VTIMEZONE
BEGIN:VEVENT
UID:1195-events@lotroartists.com
DTSTART;TZID=America/New_York:20160605T140000
DTEND;TZID=America/New_York:20160605T152000
DTSTAMP;TZID=America/New_York:20160528T040150
SUMMARY:The HOPE. RedHopeChiliPeppers and many many more… on Laurelin
URL:http://lotroartists.com/events/the-hope-redhopechilipeppers-and-many-ma
 ny-more-on-laurelin/
ORGANIZER;CN=The Hope:
LOCATION:Bree\, Festival Grounds Stage
END:VEVENT
END:VCALENDAR